BEGIN:VCALENDAR
VERSION:2.0
PRODID:-//Franco Center - ECPv6.15.20//NONSGML v1.0//EN
CALSCALE:GREGORIAN
METHOD:PUBLISH
X-WR-CALNAME:Franco Center
X-ORIGINAL-URL:https://francocenter.org
X-WR-CALDESC:Events for Franco Center
REFRESH-INTERVAL;VALUE=DURATION:PT1H
X-Robots-Tag:noindex
X-PUBLISHED-TTL:PT1H
BEGIN:VTIMEZONE
TZID:America/New_York
BEGIN:DAYLIGHT
TZOFFSETFROM:-0500
TZOFFSETTO:-0400
TZNAME:EDT
DTSTART:20210314T070000
END:DAYLIGHT
BEGIN:STANDARD
TZOFFSETFROM:-0400
TZOFFSETTO:-0500
TZNAME:EST
DTSTART:20211107T060000
END:STANDARD
BEGIN:DAYLIGHT
TZOFFSETFROM:-0500
TZOFFSETTO:-0400
TZNAME:EDT
DTSTART:20220313T070000
END:DAYLIGHT
BEGIN:STANDARD
TZOFFSETFROM:-0400
TZOFFSETTO:-0500
TZNAME:EST
DTSTART:20221106T060000
END:STANDARD
BEGIN:DAYLIGHT
TZOFFSETFROM:-0500
TZOFFSETTO:-0400
TZNAME:EDT
DTSTART:20230312T070000
END:DAYLIGHT
BEGIN:STANDARD
TZOFFSETFROM:-0400
TZOFFSETTO:-0500
TZNAME:EST
DTSTART:20231105T060000
END:STANDARD
END:VTIMEZONE
BEGIN:VEVENT
DTSTART;TZID=America/New_York:20220616T173000
DTEND;TZID=America/New_York:20220616T210000
DTSTAMP:20260425T231048
CREATED:20220613T144016Z
LAST-MODIFIED:20220613T144016Z
UID:11673-1655400600-1655413200@francocenter.org
SUMMARY:Dance Lessons at the Franco
DESCRIPTION:Dance Lessons \nBefore we start our new Thursday Night Live events in July\, learn to line dance with the staff at the Franco Entertainment Center on the Riverfront in Lewiston on Thursday nights\, June 16 and 30. Our very own production manager\, Jake Hodgkin\, will show us how to do the moves for the most popular line dances including Cotton Eye Joe\, the Macarena\, Stayin’ Alive\, Y.M.C.A.\, September\, Wobble\, Electric Slide\, Cupid Shuffle\, and Boot Scootin’ Boogie. Doors open at 5:30 p.m.; happy hour is from 6 to 7 p.m.; and dancing is from 7 to 9 p.m. A $5 admission fee will be charged at the door or buy your tickets online at www.francocenter.org or by phone at 207-689-2000. The Franco Center is located at the entrance to Lewiston’s Riverfront at 46 Cedar St. The building is handicap accessible.   \nNEW! We will be selling pizza slices and cookies.
URL:https://francocenter.org/event/dance-lessons-at-the-franco/
LOCATION:ME
CATEGORIES:Fundraiser
ATTACH;FMTTYPE=image/jpeg:https://francocenter.org/wp-content/uploads/2022/05/DanceClassesImage-scaled-1.jpg
END:VEVENT
BEGIN:VEVENT
DTSTART;TZID=America/New_York:20220630T173000
DTEND;TZID=America/New_York:20220630T210000
DTSTAMP:20260425T231048
CREATED:20220613T154503Z
LAST-MODIFIED:20220613T154503Z
UID:11682-1656610200-1656622800@francocenter.org
SUMMARY:Dance Lessons at the Franco on June 30
DESCRIPTION:Dance Lessons \nBefore we start our new Thursday Night Live events in July\, learn to line dance with the staff at the Franco Entertainment Center on the Riverfront in Lewiston on Thursday\, June 30.  \nOur very own production manager\, Jake Hodgkin\, will show us how to do the moves for the most popular line dances including Cotton Eye Joe\, the Macarena\, Stayin’ Alive\, Y.M.C.A.\, September\, Wobble\, Electric Slide\, Cupid Shuffle\, and Boot Scootin’ Boogie.  \n \n  \nDoors open at 5:30 p.m.; happy hour is from 6 to 7 p.m.; and dancing is from 7 to 9 p.m. A $5 admission fee will be charged at the door or buy your tickets online at www.francocenter.org or by phone at 207-689-2000. The Franco Center is located at the entrance to Lewiston’s Riverfront at 46 Cedar St. The building is handicap accessible.  
URL:https://francocenter.org/event/dance-lessons-at-the-franco-on-june-30/
LOCATION:ME
CATEGORIES:Fundraiser
ATTACH;FMTTYPE=image/jpeg:https://francocenter.org/wp-content/uploads/2022/05/DanceClassesImage-scaled-1.jpg
END:VEVENT
END:VCALENDAR