BEGIN:VCALENDAR
VERSION:2.0
PRODID:-//Franco Center - ECPv6.15.20//NONSGML v1.0//EN
CALSCALE:GREGORIAN
METHOD:PUBLISH
X-ORIGINAL-URL:https://francocenter.org
X-WR-CALDESC:Events for Franco Center
REFRESH-INTERVAL;VALUE=DURATION:PT1H
X-Robots-Tag:noindex
X-PUBLISHED-TTL:PT1H
BEGIN:VTIMEZONE
TZID:America/New_York
BEGIN:DAYLIGHT
TZOFFSETFROM:-0500
TZOFFSETTO:-0400
TZNAME:EDT
DTSTART:20210314T070000
END:DAYLIGHT
BEGIN:STANDARD
TZOFFSETFROM:-0400
TZOFFSETTO:-0500
TZNAME:EST
DTSTART:20211107T060000
END:STANDARD
BEGIN:DAYLIGHT
TZOFFSETFROM:-0500
TZOFFSETTO:-0400
TZNAME:EDT
DTSTART:20220313T070000
END:DAYLIGHT
BEGIN:STANDARD
TZOFFSETFROM:-0400
TZOFFSETTO:-0500
TZNAME:EST
DTSTART:20221106T060000
END:STANDARD
BEGIN:DAYLIGHT
TZOFFSETFROM:-0500
TZOFFSETTO:-0400
TZNAME:EDT
DTSTART:20230312T070000
END:DAYLIGHT
BEGIN:STANDARD
TZOFFSETFROM:-0400
TZOFFSETTO:-0500
TZNAME:EST
DTSTART:20231105T060000
END:STANDARD
END:VTIMEZONE
BEGIN:VEVENT
DTSTART;VALUE=DATE:20221025
DTEND;VALUE=DATE:20221026
DTSTAMP:20260425T160712
CREATED:20220726T182718Z
LAST-MODIFIED:20220726T182718Z
UID:11775-1666656000-1666742399@francocenter.org
SUMMARY:Fright Night Oct. 25\, 26\, 27
DESCRIPTION:Franco Center to provide scares with its Halloween-themed Fright Nights  \nLEWISTON—As a chilly fog settles along the riverfront in Lewiston-Auburn\, and a cool breeze rustles through the remaining foliage\, the Franco Center will open its crypt for Fright Night on Tuesday\, Wednesday\, and Thursday\, Oct. 25\, 26\, and 27.  \nThe maze will be open from noon to 5 p.m. each day of the event for $6 per person. During this time\, the maze will provide less of a scare than the nightly maze.  \nEach night of the event\, from 6:30 to 9:30 p.m. dozens of trained and costumed actors will play the parts of ghoulish and scary characters in the indoor maze. The cost will be $10 per person.  \n“These actors\, who we call our scream team\, will provide nightly entertainment while also watching to keep people safe and moving along\,” said Franco Center Production Manager Jake Hodgkin. He described the special lighting and sound effects that will accompany the creepy decorations as being worthy of the price of admission. “Thrill seekers will have to maneuver through twists and turns to get out of the maze. Prepared to be scared.”  \nTickets can be purchased online at www.francocenter.org\, by phone at 207-689-2000\, or in person at our box office between 10 a.m. and 1 p.m. on Tuesdays and Wednesdays. The Franco Center is at 46 Cedar St.\, Lewiston. Parking is available in the mill lot. The building is handicap accessible on the Lincoln St. Alley side.   \nTICKETS AVAILABLE HERE
URL:https://francocenter.org/event/scary-halloween-walk-oct-25-26-27/
LOCATION:ME
CATEGORIES:Fundraiser
ATTACH;FMTTYPE=image/jpeg:https://francocenter.org/wp-content/uploads/2022/07/HalloweenWalkMarquee-copyWEB-1.jpg
END:VEVENT
BEGIN:VEVENT
DTSTART;VALUE=DATE:20221026
DTEND;VALUE=DATE:20221027
DTSTAMP:20260425T160712
CREATED:20220726T182850Z
LAST-MODIFIED:20220726T182850Z
UID:11779-1666742400-1666828799@francocenter.org
SUMMARY:Fright Night Oct. 26\, 27
DESCRIPTION:Franco Center to provide scares with its Halloween-themed Fright Nights  \nLEWISTON—As a chilly fog settles along the riverfront in Lewiston-Auburn\, and a cool breeze rustles through the remaining foliage\, the Franco Center will open its crypt for Fright Night on Tuesday\, Wednesday\, and Thursday\, Oct. 25\, 26\, and 27.  \nThe maze will be open from noon to 5 p.m. each day of the event for $6 per person. During this time\, the maze will provide less of a scare than the nightly maze.  \nEach night of the event\, from 6:30 to 9:30 p.m. dozens of trained and costumed actors will play the parts of ghoulish and scary characters in the indoor maze. The cost will be $10 per person.  \n“These actors\, who we call our scream team\, will provide nightly entertainment while also watching to keep people safe and moving along\,” said Franco Center Production Manager Jake Hodgkin. He described the special lighting and sound effects that will accompany the creepy decorations as being worthy of the price of admission. “Thrill seekers will have to maneuver through twists and turns to get out of the maze. Prepared to be scared.”  \nTickets can be purchased online at www.francocenter.org\, by phone at 207-689-2000\, or in person at our box office between 10 a.m. and 1 p.m. on Tuesdays and Wednesdays. The Franco Center is at 46 Cedar St.\, Lewiston. Parking is available in the mill lot. The building is handicap accessible on the Lincoln St. Alley side.   \nTICKETS AVAILABLE HERE
URL:https://francocenter.org/event/scary-halloween-walk-oct-26-27/
LOCATION:ME
CATEGORIES:Fundraiser
ATTACH;FMTTYPE=image/jpeg:https://francocenter.org/wp-content/uploads/2022/07/HalloweenWalkMarquee-copyWEB-1.jpg
END:VEVENT
BEGIN:VEVENT
DTSTART;VALUE=DATE:20221027
DTEND;VALUE=DATE:20221028
DTSTAMP:20260425T160712
CREATED:20220726T183005Z
LAST-MODIFIED:20220726T183005Z
UID:11781-1666828800-1666915199@francocenter.org
SUMMARY:Fright Night Oct. 27
DESCRIPTION:Franco Center to provide scares with its Halloween-themed Fright Nights  \nLEWISTON—As a chilly fog settles along the riverfront in Lewiston-Auburn\, and a cool breeze rustles through the remaining foliage\, the Franco Center will open its crypt for Fright Night on Tuesday\, Wednesday\, and Thursday\, Oct. 25\, 26\, and 27.  \nThe maze will be open from noon to 5 p.m. each day of the event for $6 per person. During this time\, the maze will provide less of a scare than the nightly maze.  \nEach night of the event\, from 6:30 to 9:30 p.m. dozens of trained and costumed actors will play the parts of ghoulish and scary characters in the indoor maze. The cost will be $10 per person.  \n“These actors\, who we call our scream team\, will provide nightly entertainment while also watching to keep people safe and moving along\,” said Franco Center Production Manager Jake Hodgkin. He described the special lighting and sound effects that will accompany the creepy decorations as being worthy of the price of admission. “Thrill seekers will have to maneuver through twists and turns to get out of the maze. Prepared to be scared.”  \nTickets can be purchased online at www.francocenter.org\, by phone at 207-689-2000\, or in person at our box office between 10 a.m. and 1 p.m. on Tuesdays and Wednesdays. The Franco Center is at 46 Cedar St.\, Lewiston. Parking is available in the mill lot. The building is handicap accessible on the Lincoln St. Alley side.   \nTICKETS  AVAILABLE HERE
URL:https://francocenter.org/event/scary-halloween-walk-oct-27/
LOCATION:ME
CATEGORIES:Fundraiser
ATTACH;FMTTYPE=image/jpeg:https://francocenter.org/wp-content/uploads/2022/07/HalloweenWalkMarquee-copyWEB-1.jpg
END:VEVENT
END:VCALENDAR