BEGIN:VCALENDAR
VERSION:2.0
PRODID:-//Franco Center - ECPv6.15.20//NONSGML v1.0//EN
CALSCALE:GREGORIAN
METHOD:PUBLISH
X-WR-CALNAME:Franco Center
X-ORIGINAL-URL:https://francocenter.org
X-WR-CALDESC:Events for Franco Center
REFRESH-INTERVAL;VALUE=DURATION:PT1H
X-Robots-Tag:noindex
X-PUBLISHED-TTL:PT1H
BEGIN:VTIMEZONE
TZID:America/New_York
BEGIN:DAYLIGHT
TZOFFSETFROM:-0500
TZOFFSETTO:-0400
TZNAME:EDT
DTSTART:20230312T070000
END:DAYLIGHT
BEGIN:STANDARD
TZOFFSETFROM:-0400
TZOFFSETTO:-0500
TZNAME:EST
DTSTART:20231105T060000
END:STANDARD
BEGIN:DAYLIGHT
TZOFFSETFROM:-0500
TZOFFSETTO:-0400
TZNAME:EDT
DTSTART:20240310T070000
END:DAYLIGHT
BEGIN:STANDARD
TZOFFSETFROM:-0400
TZOFFSETTO:-0500
TZNAME:EST
DTSTART:20241103T060000
END:STANDARD
BEGIN:DAYLIGHT
TZOFFSETFROM:-0500
TZOFFSETTO:-0400
TZNAME:EDT
DTSTART:20250309T070000
END:DAYLIGHT
BEGIN:STANDARD
TZOFFSETFROM:-0400
TZOFFSETTO:-0500
TZNAME:EST
DTSTART:20251102T060000
END:STANDARD
END:VTIMEZONE
BEGIN:VEVENT
DTSTART;TZID=America/New_York:20240106T170000
DTEND;TZID=America/New_York:20240106T230000
DTSTAMP:20260424T123542
CREATED:20231212T153247Z
LAST-MODIFIED:20231212T153247Z
UID:13489-1704560400-1704582000@francocenter.org
SUMMARY:Love for Lewiston
DESCRIPTION:Love for Lewiston \n\nA special concert to benefit the two local venues affected by the tragic events of Oct. 25 will be held 5-10:30 p.m. on Saturday\, Jan. 6\, at the Franco Center in Lewiston. Both Schemengees and Just-In-Time Recreation suffered losses of lives and business closures as a result of the tragedy. While operating and facility expenses continue to grow\, revenues came to a halt\, and little if any of the funds raised so far have actually reached these businesses that served the community for years. \nThe concert/dance will also give the owners of the two businesses\, family\, employees\, and circle of friends a well-deserved opportunity to let their collective hair down\, relax and enjoy a fun time with loved ones. \n\nAlong with the Franco Center donating the venue\, these Lewiston/Auburn-based musicians have donated their time: \nSmith Collaboration\nGoff Hill Rundown\nContinental Shakedown\nRunnin’ Down a Dream\nJumpin’ Willys\nRon Bergeron\nBonnie Edwards\nDenny Breau & Arlo West \nAcoustic Sunshine\n\nJustin Dube of Dube Media will livestream the event over Facebook\, including a QR code where people can donate from anywhere. The Franco Center will provide a cash bar and concessions for the duration of the event. Advance tickets are $15 and are available at francocenter.org\, by phone at 207-689-2000 or in person at the box office.\n \nJanuary 6\, 2024 \n5:00 PM – 11:00 PM \nHeritage Hall \nPrices include fees: \nAdvance  $15 \nDoor  $20 \nBUY TICKETS ONLINE HERE \nor call 207-689-2000.
URL:https://francocenter.org/event/love-for-lewiston/
LOCATION:ME
CATEGORIES:Fundraiser
ATTACH;FMTTYPE=image/jpeg:https://francocenter.org/wp-content/uploads/2023/12/KenGoodmanGraphic.jpg
END:VEVENT
BEGIN:VEVENT
DTSTART;TZID=America/New_York:20240117T100000
DTEND;TZID=America/New_York:20240117T110000
DTSTAMP:20260424T123542
CREATED:20240102T202442Z
LAST-MODIFIED:20240102T202442Z
UID:13531-1705485600-1705489200@francocenter.org
SUMMARY:Line Dance Lessons at the Franco Center
DESCRIPTION:Line dance lessons will take place from 10 to 11 a.m. Wednesdays\, Jan. 17\, 24\, and 31\, at the Franco Center\, 46 Cedar St.\, Lewiston. $5 suggested donation at the door. Jake Hodgkin will lead the class in the steps of many popular line dances. It’s a great workout if you’re looking for exercise\, too. \nNo need to register. Just drop in! Bring your friends.
URL:https://francocenter.org/event/line-dance-lessons-at-the-franco-center/
LOCATION:ME
CATEGORIES:Dance,Fundraiser
ATTACH;FMTTYPE=image/png:https://francocenter.org/wp-content/uploads/2023/08/linedances.png
END:VEVENT
BEGIN:VEVENT
DTSTART;TZID=America/New_York:20240124T100000
DTEND;TZID=America/New_York:20240124T110000
DTSTAMP:20260424T123542
CREATED:20240102T203057Z
LAST-MODIFIED:20240102T203057Z
UID:13533-1706090400-1706094000@francocenter.org
SUMMARY:Line Dance Lessons at Franco Center
DESCRIPTION:Line dance lessons will take place from 10 to 11 a.m. Wednesdays\, Jan. 24\, and 31\, at the Franco Center\, 46 Cedar St.\, Lewiston. $5 suggested donation at the door. Jake Hodgkin will lead the class in the steps of many popular line dances. It’s a great workout if you’re looking for exercise\, too. \nNo need to register. Just drop in! Bring your friends. \nFebruary dates to be determined.
URL:https://francocenter.org/event/line-dance-lessons-at-franco-center/
LOCATION:ME
CATEGORIES:Dance,Fundraiser
ATTACH;FMTTYPE=image/png:https://francocenter.org/wp-content/uploads/2023/08/linedances.png
END:VEVENT
BEGIN:VEVENT
DTSTART;TZID=America/New_York:20240131T100000
DTEND;TZID=America/New_York:20240131T110000
DTSTAMP:20260424T123542
CREATED:20240102T203203Z
LAST-MODIFIED:20240102T203203Z
UID:13535-1706695200-1706698800@francocenter.org
SUMMARY:Line Dance Lessons at the Franco Center
DESCRIPTION:Line dance lessons will take place from 10 to 11 a.m. Wednesday\, Jan. 31\, at the Franco Center\, 46 Cedar St.\, Lewiston. $5 suggested donation at the door. Jake Hodgkin will lead the class in the steps of many popular line dances. It’s a great workout if you’re looking for exercise\, too. \nNo need to register. Just drop in! Bring your friends.
URL:https://francocenter.org/event/line-dance-lessons-at-the-franco-center-2/
LOCATION:ME
CATEGORIES:Dance,Fundraiser
ATTACH;FMTTYPE=image/png:https://francocenter.org/wp-content/uploads/2023/08/linedances.png
END:VEVENT
END:VCALENDAR