BEGIN:VCALENDAR
VERSION:2.0
PRODID:-//Franco Center - ECPv6.15.20//NONSGML v1.0//EN
CALSCALE:GREGORIAN
METHOD:PUBLISH
X-WR-CALNAME:Franco Center
X-ORIGINAL-URL:https://francocenter.org
X-WR-CALDESC:Events for Franco Center
REFRESH-INTERVAL;VALUE=DURATION:PT1H
X-Robots-Tag:noindex
X-PUBLISHED-TTL:PT1H
BEGIN:VTIMEZONE
TZID:America/New_York
BEGIN:DAYLIGHT
TZOFFSETFROM:-0500
TZOFFSETTO:-0400
TZNAME:EDT
DTSTART:20230312T070000
END:DAYLIGHT
BEGIN:STANDARD
TZOFFSETFROM:-0400
TZOFFSETTO:-0500
TZNAME:EST
DTSTART:20231105T060000
END:STANDARD
BEGIN:DAYLIGHT
TZOFFSETFROM:-0500
TZOFFSETTO:-0400
TZNAME:EDT
DTSTART:20240310T070000
END:DAYLIGHT
BEGIN:STANDARD
TZOFFSETFROM:-0400
TZOFFSETTO:-0500
TZNAME:EST
DTSTART:20241103T060000
END:STANDARD
BEGIN:DAYLIGHT
TZOFFSETFROM:-0500
TZOFFSETTO:-0400
TZNAME:EDT
DTSTART:20250309T070000
END:DAYLIGHT
BEGIN:STANDARD
TZOFFSETFROM:-0400
TZOFFSETTO:-0500
TZNAME:EST
DTSTART:20251102T060000
END:STANDARD
END:VTIMEZONE
BEGIN:VEVENT
DTSTART;TZID=America/New_York:20240906T190000
DTEND;TZID=America/New_York:20240906T210000
DTSTAMP:20260423T204951
CREATED:20240417T165242Z
LAST-MODIFIED:20240417T165242Z
UID:13792-1725649200-1725656400@francocenter.org
SUMMARY:Best of Broadway to kick off 25th season at the Franco Center
DESCRIPTION:Best of Broadway Revue \nKick off our celebration of Franco Center’s 25th Anniversary \nThe biggest hits of our favorite Broadway shows presented by exceptional local performers. \nFriday\, September 6\, 2024 7:00 PM \nSaturday\, September 7\, 2024 7:00 PM \nDoors and cash bar in Heritage Hall open one hour prior to show. \nPerformance Hall show  with reserved seating. \nA special 25th anniversary pre-show reception (with light appetizers and finger food) to celebrate the Franco Center’s new 2024-2025 season is from 5 to 6 p.m. in Heritage Hall before the Saturday\, Sept. 7 show only. Tickets for this VIP reception can be added during the ticket ordering process online\, in person\, and over the phone (207-689-2000). Tickets for the reception only are $20 per person. \nShow sponsors are: DJ Brothers; Evergreen Printing; and Grace Center for Movement. Thank you\, thank you\, thank you for your support! \nShow tickets are as follows: \nTicket prices include fees: \nAdvance Ticket Purchase (before 9/6/24): \nTier 1: Adults $20 – Youth (<18 yrs) $15 \nTier 2: Adults $15 – Youth (<18 yrs) $10 \nAt Door Ticket Purchase: \nTier 1: Adults $25 – Youth (<18 yrs) $20 \nTier 2: Adults $20 – Youth (<18 yrs) $15 \n  \nAll sales are final. No Refunds will be given unless we have to cancel the performance for whatever reason. Tickets are transferrable. \n  \nBUY your tickets today! Link: https://app.arts-people.com/index.php?show=236929 \nCast  \n\nJim Hodgkin \n\n\nJim McKinley \n\n\nEden Bauer \n\n\nJen LeBlanc \n\n\nJackie Preston \n\n\nJosh Witham \n\n\nHeather Marichal \n\n\nJeff Fairfield \n\n\nTorrey Gimpel \n\n\nMichelle Breton \n\n\nMadison Shepard \n\n\nAshleigh St. Pierre \n\n\nSamantha Herriot  \n\n\nAdrian Morneau \n\n\nJake Hodgkin  \n\n\nWes Pierson \n\n\nElise Pierson \n\n\nLacey Moyse \n\n\nBette Sanborn \n\n\nEmma Carmichael  \n\n\nLauren Hodgkins  \n\n\nIsabelle McCormick  \n\n\nCara Pare \n\n\n\nAlyssa Tremblay  \n\n\n\nAct 1 \n1.  Welcome\n2.  “On Broadway” (Smokey Joe’s Café)\n3.   Phantom Introduction\n4.  “Phantom of the Opera” (Phantom of the Opera)\n5.  Into the Woods Introduction\n6.  “Children Will Listen” (Into the Woods)\n7.  “My Favorite Things” (The Sound of Music)\n8.  “Beauty and the Beast” (Beauty and the Beast)\n9.  “Mamma Mia” (Mamma Mia)\n10.  Waitress Introduction\n11.  “She Used to be Mine” (Waitress)\n12.  42nd Street Introduction\n13.  “42nd Street” (42nd Street)\n14.  “Stars” (Les Misérables)\n15.  Wicked Introduction\n16.  “Defying Gravity” (Wicked) \nAct 2 \n1.  “Something About This Night” (Finding Neverland)\n2.  Cats Introduction\n3.  “Memory” (Cats)\n4.  Gypsy Introduction\n5.  “Everything’s Coming Up Roses” (Gypsy)\n6.  “For Good” (Wicked)\n7.  “All That Jazz” (Chicago)\n8.  “Can You Feel Love Tonight” (The Lion King)\n9.  “Hakuna Matata” (The Lion King)\n10.  “I Don’t Know How to Love Him” (Jesus Christ Superstar)\n11.  “Who I’ll Be” (Shrek)\n12.  “Burn” (Hamilton)\n13.  Pippin Introduction\n14.  “Corner of the Sky” (Pippin)\n15.  “We Got Magic to Do” (Pippin)\n16.   Les Misérables Introduction\n17.  “Do You Hear the People Sing” (Les Misérables) \n\n\n  \nPRODUCTION TEAM: \nDirector – Jake Hodgkin  \nAsst Director – Bette Sanborn  \nChoreographer – Samantha Herriot  \nMusic Director- Torrey Gimpel   \nStage Manager – Missy Hodgkin  \nAsst Stage Manager – Allison Marston  \nSound Designer – Mark Vigue  \nLighting Designers – Jake Hodgkin – Sarah Greaton  \nSpotlight op- Theresa Shanahan  \nSet design and building- Jake Hodgkin   \nCostumes- Bette Sanborn- Nancy Lupien    \nStage Crew- Rick Osgood\, Larry Hodgkin\,   \nPosters/Marketing/program- Denise Scammon   \n2 Special numbers Choreographed- Gina Hesse   \n(Special Thanks)  \nEvergreen Printing  \nNancy Lupien  \nRudy and Natiale Kyllonen  \nJennifer Bement at Grace Center for Movement  \nJohn Pulsifer   \n  \nPlease note that changes to the order of the performances may have occurred since the start of production.
URL:https://francocenter.org/event/best-of-broadway-to-kick-off-25th-season-at-the-franco-center/
LOCATION:ME
CATEGORIES:Fundraiser
ATTACH;FMTTYPE=image/jpeg:https://francocenter.org/wp-content/uploads/2024/04/BestOfBroadway.jpg
END:VEVENT
BEGIN:VEVENT
DTSTART;TZID=America/New_York:20240907T190000
DTEND;TZID=America/New_York:20240907T210000
DTSTAMP:20260423T204951
CREATED:20240417T165411Z
LAST-MODIFIED:20240417T165411Z
UID:13795-1725735600-1725742800@francocenter.org
SUMMARY:Best of Broadway to kick off 25th season at Franco Center
DESCRIPTION:Best of Broadway Revue \nKick off our celebration of Franco Center’s 25th Anniversary \nThe biggest hits of our favorite Broadway shows presented by exceptional local performers. \nSaturday\, September 7\, 2024 7:00 PM \nDoors and cash bar in Heritage Hall open one hour prior to show. \nPerformance Hall show is reserved seating. \nA special 25th anniversary pre-show reception (with light appetizers and finger food) to celebrate the Franco Center’s new 2024-2025 season is from 5 to 6 p.m. in Heritage Hall before the Saturday\, Sept. 7 show only. Tickets for this VIP reception can be added during the ticket ordering process online\, in person\, and over the phone (207-689-2000). Tickets for the reception only are $20 per person. \nShow sponsors are: DJ Brothers; Evergreen Printing; and Grace Center for Movement. Thank you\, thank you\, thank you for your support! \nShow tickets are as follows: \nTicket prices include fees: \nAdvance Ticket Purchase (before 9/6/24): \nTier 1: Adults $20 – Youth (<18 yrs) $15 \nTier 2: Adults $15 – Youth (<18 yrs) $10 \nAt Door Ticket Purchase: \nTier 1: Adults $25 – Youth (<18 yrs) $20 \nTier 2: Adults $20 – Youth (<18 yrs) $15 \n  \nAll sales are final. No Refunds will be given unless we have to cancel the performance for whatever reason. Tickets are transferrable. \n  \nBUY your tickets today! Link: https://app.arts-people.com/index.php?show=236929 \n  \nBest of Broadway Revue \nKick off our celebration of Franco Center’s 25th Anniversary \nThe biggest hits of our favorite Broadway shows presented by exceptional local performers. \nFriday\, September 6\, 2024 7:00 PM \nSaturday\, September 7\, 2024 7:00 PM \nDoors and cash bar in Heritage Hall open one hour prior to show. \nPerformance Hall show  with reserved seating. \nA special 25th anniversary pre-show reception (with light appetizers and finger food) to celebrate the Franco Center’s new 2024-2025 season is from 5 to 6 p.m. in Heritage Hall before the Saturday\, Sept. 7 show only. Tickets for this VIP reception can be added during the ticket ordering process online\, in person\, and over the phone (207-689-2000). Tickets for the reception only are $20 per person. \n  \nShow tickets are as follows: \nTicket prices include fees: \nAdvance Ticket Purchase (before 9/6/24): \nTier 1: Adults $20 – Youth (<18 yrs) $15 \nTier 2: Adults $15 – Youth (<18 yrs) $10 \nAt Door Ticket Purchase: \nTier 1: Adults $25 – Youth (<18 yrs) $20 \nTier 2: Adults $20 – Youth (<18 yrs) $15 \n  \nAll sales are final. No Refunds will be given unless we have to cancel the performance for whatever reason. Tickets are transferrable. \n  \nBUY your tickets today! Link: https://app.arts-people.com/index.php?show=236929 \nCast  \n\nJim Hodgkin \n\n\nJim McKinley \n\n\nEden Bauer \n\n\nJen LeBlanc \n\n\nJackie Preston \n\n\nJosh Witham \n\n\nHeather Marichal \n\n\nJeff Fairfield \n\n\nTorrey Gimpel \n\n\nMichelle Breton \n\n\nMadison Shepard \n\n\nAshleigh St. Pierre \n\n\nSamantha Herriot  \n\n\nAdrian Morneau \n\n\nJake Hodgkin  \n\n\nWes Pierson \n\n\nElise Pierson \n\n\nLacey Moyse \n\n\nBette Sanborn \n\n\nEmma Carmichael  \n\n\nLauren Hodgkins  \nIsabelle McCormick\nCara Pare  \nAlyssa Tremblay  \n\n\n\nAct 1 \n1.  Welcome\n2.  “On Broadway” (Smokey Joe’s Café)\n3.   Phantom Introduction\n4.  “Phantom of the Opera” (Phantom of the Opera)\n5.  Into the Woods Introduction\n6.  “Children Will Listen” (Into the Woods)\n7.  “My Favorite Things” (The Sound of Music)\n8.  “Beauty and the Beast” (Beauty and the Beast)\n9.  “Mamma Mia” (Mamma Mia)\n10.  Waitress Introduction\n11.  “She Used to be Mine” (Waitress)\n12.  42nd Street Introduction\n13.  “42nd Street” (42nd Street)\n14.  “Stars” (Les Misérables)\n15.  Wicked Introduction\n16.  “Defying Gravity” (Wicked) \nAct 2 \n1.  “Something About This Night” (Finding Neverland)\n2.  Cats Introduction\n3.  “Memory” (Cats)\n4.  Gypsy Introduction\n5.  “Everything’s Coming Up Roses” (Gypsy)\n6.  “For Good” (Wicked)\n7.  “All That Jazz” (Chicago)\n8.  “Can You Feel Love Tonight” (The Lion King)\n9.  “Hakuna Matata” (The Lion King)\n10.  “I Don’t Know How to Love Him” (Jesus Christ Superstar)\n11.  “Who I’ll Be” (Shrek)\n12.  “Burn” (Hamilton)\n13.  Pippin Introduction\n14.  “Corner of the Sky” (Pippin)\n15.  “We Got Magic to Do” (Pippin)\n16.   Les Misérables Introduction\n17.  “Do You Hear the People Sing” (Les Misérables) \n\n\n  \nPRODUCTION TEAM: \nDirector – Jake Hodgkin  \nAsst Director – Bette Sanborn  \nChoreographer – Samantha Herriot  \nMusic Director- Torrey Gimpel   \nStage Manager – Missy Hodgkin  \nAsst Stage Manager – Allison Marston  \nSound Designer – Mark Vigue  \nLighting Designers – Jake Hodgkin – Sarah Greaton  \nSpotlight op- Theresa Shanahan  \nSet design and building- Jake Hodgkin   \nCostumes- Bette Sanborn- Nancy Lupien    \nStage Crew- Rick Osgood\, Larry Hodgkin \n \nPosters/Marketing/program- Denise Scammon   \n2 Special numbers Choreographed- Gina Hesse   \n(Special Thanks)  \nEvergreen Printing  \nNancy Lupien  \nRudy and Natiale Kyllonen  \nJennifer Bement at Grace Center for Movement  \nJohn Pulsifer   \n Please note that changes to the order of the performances may have occurred since the start of production. \n  \n 
URL:https://francocenter.org/event/best-of-broadway-to-kick-off-25th-season-at-franco-center/
LOCATION:ME
CATEGORIES:Fundraiser
ATTACH;FMTTYPE=image/jpeg:https://francocenter.org/wp-content/uploads/2024/04/BestOfBroadway.jpg
END:VEVENT
END:VCALENDAR