BEGIN:VCALENDAR
VERSION:2.0
PRODID:-//Franco Center - ECPv6.15.20//NONSGML v1.0//EN
CALSCALE:GREGORIAN
METHOD:PUBLISH
X-ORIGINAL-URL:https://francocenter.org
X-WR-CALDESC:Events for Franco Center
REFRESH-INTERVAL;VALUE=DURATION:PT1H
X-Robots-Tag:noindex
X-PUBLISHED-TTL:PT1H
BEGIN:VTIMEZONE
TZID:America/New_York
BEGIN:DAYLIGHT
TZOFFSETFROM:-0500
TZOFFSETTO:-0400
TZNAME:EDT
DTSTART:20210314T070000
END:DAYLIGHT
BEGIN:STANDARD
TZOFFSETFROM:-0400
TZOFFSETTO:-0500
TZNAME:EST
DTSTART:20211107T060000
END:STANDARD
BEGIN:DAYLIGHT
TZOFFSETFROM:-0500
TZOFFSETTO:-0400
TZNAME:EDT
DTSTART:20220313T070000
END:DAYLIGHT
BEGIN:STANDARD
TZOFFSETFROM:-0400
TZOFFSETTO:-0500
TZNAME:EST
DTSTART:20221106T060000
END:STANDARD
BEGIN:DAYLIGHT
TZOFFSETFROM:-0500
TZOFFSETTO:-0400
TZNAME:EDT
DTSTART:20230312T070000
END:DAYLIGHT
BEGIN:STANDARD
TZOFFSETFROM:-0400
TZOFFSETTO:-0500
TZNAME:EST
DTSTART:20231105T060000
END:STANDARD
END:VTIMEZONE
BEGIN:VEVENT
DTSTART;TZID=America/New_York:20220721T173000
DTEND;TZID=America/New_York:20220721T210000
DTSTAMP:20260421T021046
CREATED:20220720T113950Z
LAST-MODIFIED:20220720T113950Z
UID:11749-1658424600-1658437200@francocenter.org
SUMMARY:Thursday Night Dancing at the Franco
DESCRIPTION:Every Thursday night throughout the summer you can have fun at the Franco Center! Doors open at 5:30 p.m. Happy hour goes on until 7 p.m. Dancing and other fun social activities take place from 7 to 9 p.m. It’s not too shabby! \nPay $5 admission at the door\, online at francocenter.org\, or call 207-689-2000. Give yourself a fun night out during the week! There’s plenty of parking in the mill lot for our events. \nOur Thursday Night Live events are a great place to meet up with your graduating class\, co-workers\, current classmates\, and business associates. \nDid you know you can rent the Franco Center? Pick up a brochure while you’re here. \nWe also have a wide variety of events on our calendar for next season: La Rencontre (daytime French party); Runnin’ On a Dream Tom Petty Tribute Band; The Male Intellect/Oxymoron; Echoes of Floyd Band; Creepy Crypt Halloween Walk; Adult Halloween Party; Magic Shows; Don Campbell Christmas; Our Own Magical Christmas on the Riverfront; Schooner Fare; Josee Vachon (daytime); Studio Two Beatles Tribute Band; and more. Some events are family- and kid-friendly! \nPlease consider donating to the Franco Center so we can continue to bring performing arts\, entertainment\, and cultural programs to Lewiston’s Riverfront. Thank you so much!
URL:https://francocenter.org/event/thursday-night-dancing-at-the-franco/
CATEGORIES:Thursday Night Live
ATTACH;FMTTYPE=image/jpeg:https://francocenter.org/wp-content/uploads/2022/07/clubdancingimage.jpeg
END:VEVENT
BEGIN:VEVENT
DTSTART;TZID=America/New_York:20220714T173000
DTEND;TZID=America/New_York:20220714T210000
DTSTAMP:20260421T021046
CREATED:20220706T140950Z
LAST-MODIFIED:20220706T140950Z
UID:11725-1657819800-1657832400@francocenter.org
SUMMARY:Thursday Night Live!
DESCRIPTION:Thursday Night Live will kick off on July 14\, 2022. Every Thursday night throughout the summer you can have fun at the Franco Center! Doors open at 5:30 p.m. Happy hour goes on until 7 p.m. Dancing and other fun social activities take place from 7 to 9 p.m. It’s not too shabby! \nPay $5 admission at the door\, online at francocenter.org\, or call 207-689-2000. Give yourself a fun night out during the week! There’s plenty of parking in the mill lot for our events. \nOur Thursday Night Live events are a great place to meet up with your graduating class\, co-workers\, current classmates\, and business associates. \nDid you know you can rent the Franco Center? Pick up a brochure while you’re here. \nWe also have a wide variety of events on our calendar for next season: La Rencontre (daytime French party); Runnin’ On a Dream Tom Petty Tribute Band; The Male Intellect/Oxymoron; Echoes of Floyd Band; Creepy Crypt Halloween Walk; Adult Halloween Party; Magic Shows; Don Campbell Christmas; Our Own Magical Christmas on the Riverfront; Schooner Fare; Josee Vachon (daytime); Studio Two Beatles Tribute Band; and more. Some events are family- and kid-friendly! \nWe give tours\, too. Look for the link on our website. \nPlease consider donating to the Franco Center so we can continue to bring performing arts\, entertainment\, and cultural programs to Lewiston’s Riverfront. Thank you so much!
URL:https://francocenter.org/event/thursday-night-live/
CATEGORIES:Thursday Night Live
ATTACH;FMTTYPE=image/jpeg:https://francocenter.org/wp-content/uploads/2022/07/ClubDancingLessons-scaled-1.jpg
END:VEVENT
END:VCALENDAR