BEGIN:VCALENDAR
VERSION:2.0
PRODID:-//Franco Center - ECPv6.15.20//NONSGML v1.0//EN
CALSCALE:GREGORIAN
METHOD:PUBLISH
X-WR-CALNAME:Franco Center
X-ORIGINAL-URL:https://francocenter.org
X-WR-CALDESC:Events for Franco Center
REFRESH-INTERVAL;VALUE=DURATION:PT1H
X-Robots-Tag:noindex
X-PUBLISHED-TTL:PT1H
BEGIN:VTIMEZONE
TZID:America/New_York
BEGIN:DAYLIGHT
TZOFFSETFROM:-0500
TZOFFSETTO:-0400
TZNAME:EDT
DTSTART:20200308T070000
END:DAYLIGHT
BEGIN:STANDARD
TZOFFSETFROM:-0400
TZOFFSETTO:-0500
TZNAME:EST
DTSTART:20201101T060000
END:STANDARD
BEGIN:DAYLIGHT
TZOFFSETFROM:-0500
TZOFFSETTO:-0400
TZNAME:EDT
DTSTART:20210314T070000
END:DAYLIGHT
BEGIN:STANDARD
TZOFFSETFROM:-0400
TZOFFSETTO:-0500
TZNAME:EST
DTSTART:20211107T060000
END:STANDARD
BEGIN:DAYLIGHT
TZOFFSETFROM:-0500
TZOFFSETTO:-0400
TZNAME:EDT
DTSTART:20220313T070000
END:DAYLIGHT
BEGIN:STANDARD
TZOFFSETFROM:-0400
TZOFFSETTO:-0500
TZNAME:EST
DTSTART:20221106T060000
END:STANDARD
END:VTIMEZONE
BEGIN:VEVENT
DTSTART;TZID=America/New_York:20210827T193000
DTEND;TZID=America/New_York:20210827T213000
DTSTAMP:20260422T233140
CREATED:20210824T182049Z
LAST-MODIFIED:20210824T182049Z
UID:10707-1630092600-1630099800@francocenter.org
SUMMARY:Dave Rowe and Friends
DESCRIPTION:Join the legendary Dave Rowe on August 27 at 7:30pm. Along with Troy Bennett of the Squid Jiggers and special guest fiddler\, Edward Howe\n  \n \nDo not miss your last chance to see Dave Rowe before he casts off for a more “nomadic” lifestyle aboard his motor yacht\, “Stinkpot.” Dave will be heading out to sea in September to live abroad\, where he will spend winters in sunny Florida and summers cruising wherever the gigs take him. Dave is putting on one last event in his hometown to see and bid a fond farewell (at least for now) to his family\, friends\, and fans. You will not want to miss this opportunity!\nAdmission: $20\nDoors Open at 6:30pm\nFull Bar\nFree Parking\nGreat Music
URL:https://francocenter.org/event/dave-rowe-and-friends/
CATEGORIES:Music
ATTACH;FMTTYPE=image/jpeg:https://francocenter.org/wp-content/uploads/2021/07/Dave-Rowe-Image-date-friends2.jpg
END:VEVENT
END:VCALENDAR