BEGIN:VCALENDAR
VERSION:2.0
PRODID:-//Franco Center - ECPv6.15.20//NONSGML v1.0//EN
CALSCALE:GREGORIAN
METHOD:PUBLISH
X-WR-CALNAME:Franco Center
X-ORIGINAL-URL:https://francocenter.org
X-WR-CALDESC:Events for Franco Center
REFRESH-INTERVAL;VALUE=DURATION:PT1H
X-Robots-Tag:noindex
X-PUBLISHED-TTL:PT1H
BEGIN:VTIMEZONE
TZID:America/New_York
BEGIN:DAYLIGHT
TZOFFSETFROM:-0500
TZOFFSETTO:-0400
TZNAME:EDT
DTSTART:20200308T070000
END:DAYLIGHT
BEGIN:STANDARD
TZOFFSETFROM:-0400
TZOFFSETTO:-0500
TZNAME:EST
DTSTART:20201101T060000
END:STANDARD
BEGIN:DAYLIGHT
TZOFFSETFROM:-0500
TZOFFSETTO:-0400
TZNAME:EDT
DTSTART:20210314T070000
END:DAYLIGHT
BEGIN:STANDARD
TZOFFSETFROM:-0400
TZOFFSETTO:-0500
TZNAME:EST
DTSTART:20211107T060000
END:STANDARD
BEGIN:DAYLIGHT
TZOFFSETFROM:-0500
TZOFFSETTO:-0400
TZNAME:EDT
DTSTART:20220313T070000
END:DAYLIGHT
BEGIN:STANDARD
TZOFFSETFROM:-0400
TZOFFSETTO:-0500
TZNAME:EST
DTSTART:20221106T060000
END:STANDARD
END:VTIMEZONE
BEGIN:VEVENT
DTSTART;TZID=America/New_York:20211023T190000
DTEND;TZID=America/New_York:20211023T210000
DTSTAMP:20260421T034355
CREATED:20210916T163036Z
LAST-MODIFIED:20210916T163036Z
UID:10768-1635015600-1635022800@francocenter.org
SUMMARY:Midcoast Symphony Orchestra
DESCRIPTION:The Midcoast Symphony Orchestra is back at The Gendron Franco Center!\nOctober 23\nJoin conductor Rohan Smith and the rest of The Midcoast Symphony for their much anticipated return to The Gendron Franco Center.\nFor more information\, or to purchase tickets please call: 207-846-5378 or click the link below.
URL:https://francocenter.org/event/midcoast-symphony-orchestra/
CATEGORIES:Music
ATTACH;FMTTYPE=image/jpeg:https://francocenter.org/wp-content/uploads/2021/09/MSO-Logo-hi-res-scaled-1.jpg
END:VEVENT
BEGIN:VEVENT
DTSTART;TZID=America/New_York:20211016T190000
DTEND;TZID=America/New_York:20211016T213000
DTSTAMP:20260421T034355
CREATED:20210928T161540Z
LAST-MODIFIED:20210928T161540Z
UID:10809-1634410800-1634419800@francocenter.org
SUMMARY:The Intersection / Le Carrefour (Film Screening\, Q&A and Reception)
DESCRIPTION:The Intersection / Le Carrefour (Film Screening\, Q&A and Reception)\nPast and present immigrant experiences intersect in Lewiston\, Maine\, when Franco-American retiree Cécile and\nCongolese asylum-seeker Trésor discover a sense of belonging thanks to their shared French language.\nA film by Jessamine Irwin and Daniel Quintanilla\nA free screening of the Lewiston-based documentary film\, The Intersection / Le Carrefour\, a project which received\nthe first ever Maine Heritage Film Grant by TV5 Monde/CIFF. The screening will include a lively Q&A featuring the\nfilmmakers\, primary characters of the film and community leaders. The film will be followed by a reception located in\nthe Heritage Hall (beverages will be available for sale at the bar).\nSaturday\, October 16\, 7-9:30pm\nPerformance Hall\, Gendron Franco Center\n46 Cedar Street\, Lewiston\, ME 04240 \nCOVID PROTOCOLS\nDue to COVID precautions\, proof of full vaccinations will be required. Only 75% of capacity will be allowed in the Performance Hall. Audience members will be required to wear masks throughout the screening\, Q&A and reception (except when eating or consuming\nbeverages).\nThe Franco Center is handicap accessible. Parking is included in the price of the ticket. Please consider making a\ndonation to the Franco Center by going to https://francocenter.org/donate/ or calling (207) 783-1585.\nWe are currently seeking sponsors for this event. If you would like to be a sponsor or are interested in hosting a\nscreening of The Intersection / Le Carrefour\, please email theintersection2021@gmail.com or send a message to\nwww.lecarrefourfilm.com/contact\nThe film premiered in September 2021 at the 17th edition of the Camden International Film Festival.\nAdditional support for the film was provided by the Maine Humanities Council\, Speaking Place\, Alliance Française\,\nAmerican Association of Teachers of French (Maine)\, New York University\, Gaulin Family Fund. \n\n \n  \n  \nSponsored by: Mechanic Savings Bank; Hilton Garden Inn-Auburn Riverwatch \nSeason Underwriter: Maple Way Dental \nMedia Sponsors: Turner Publishing; Sun Journal; Uncle Andy’s Digest
URL:https://francocenter.org/event/the-intersection-le-carrefour-film-screening-qa-and-reception/
ATTACH;FMTTYPE=image/jpeg:https://francocenter.org/wp-content/uploads/2021/09/Image-3.jpg
END:VEVENT
BEGIN:VEVENT
DTSTART;VALUE=DATE:20211014
DTEND;VALUE=DATE:20211016
DTSTAMP:20260421T034355
CREATED:20211010T160618Z
LAST-MODIFIED:20211010T160618Z
UID:10854-1634169600-1634342399@francocenter.org
SUMMARY:An Evening at Dave's Sauna
DESCRIPTION:Thursday October 14 7:30pm-9:00pm \nFriday October 15 7:30pm-9:00pm​ \n  \nRated N  for “Naughty”  \nAn Evening at Dave’s Sauna tells the tale of just one evening back in 1980 at the infamous Dave’s Sauna in South Paris\, Maine. \n​Where hippies\, rednecks\, bikers\, townies\, swingers\,\nand all kinds would come for a sauna (and maybe more!) \nBased off of true accounts of the little sauna\n​back in its hay day. \n\n \nFeaturing 15 all original\, toe-tapping\,\n​sing-a-long\, songs from\nRagtime Johnny including…\n\nI’m Just a Jewish Refugee\nJust Cuz We’re from Maine\, Don’t Mean We Can’t Swing \nI Swear He’s My Nephew\nCocaine’s a Wonderful Drug\nTrailer Park Woman\nI Got Beer Behind the Counter\nMassHole in ME\nAsk Me Why\, I Say Why Not \nMo Barrel’s of Money\, ‘Mo Problems \nN is for Naughty\nI’m a Rooster\, You’re a Dove \nIt’s Not EZ in the Shadow of a God\nOh Nancy\nSometimes It’s Good to be King\nWhen I Die\, Bury Me In My Cut Off Blue Jeans\n\nFor tickets and more information go to: DAVE’S SAUNA
URL:https://francocenter.org/event/an-evening-at-daves-sauna/
CATEGORIES:Performance
ATTACH;FMTTYPE=image/png:https://francocenter.org/wp-content/uploads/2021/10/DS_Album_Poster-02-5.png
END:VEVENT
BEGIN:VEVENT
DTSTART;TZID=America/New_York:20210924T190000
DTEND;TZID=America/New_York:20210924T210000
DTSTAMP:20260421T034355
CREATED:20210824T195136Z
LAST-MODIFIED:20210824T195136Z
UID:10722-1632510000-1632517200@francocenter.org
SUMMARY:Denny Breau Live at The Franco!
DESCRIPTION:Denny Breau live at the Franco\n  \n \n  \nDon’t miss native singer/songwriter and legendary guitarist Denny Breau perform live at the Gendron Franco Center.\nTickets $15\nDoors open at 6:00pm\nMusic at 7:00pm\nFull bar\nFree Parking\nGreat atmosphere\n\n  \nSponsored by: Mechanic Savings Bank; Hilton Garden Inn-Auburn Riverwatch \nSeason Underwriter: Maple Way Dental \nMedia Sponsors: Turner Publishing; Sun Journal; Uncle Andy’s Digest
URL:https://francocenter.org/event/denny-breau-live-at-the-franco/
CATEGORIES:Music
ATTACH;FMTTYPE=image/jpeg:https://francocenter.org/wp-content/uploads/2021/08/Image.jpg
END:VEVENT
BEGIN:VEVENT
DTSTART;TZID=America/New_York:20210917T190000
DTEND;TZID=America/New_York:20210917T220000
DTSTAMP:20260421T034355
CREATED:20210824T194612Z
LAST-MODIFIED:20210824T194612Z
UID:10720-1631905200-1631916000@francocenter.org
SUMMARY:The Christie Ray Trio
DESCRIPTION:The Christie Ray Trio Live at The Franco Center!\n  \n \n  \nCome and see local star\, Christie Ray perform songs from her newly released album\, “Night Life”.\nAlong with covers of groups such as\, The Eagles\, Fleetwood Mac\, The Rolling Stones\, and more.\nTickets only $15\nDoors at 6:00pm\nMusic at 7:00pm\nFull bar\nFree Parking\nGreat Atmosphere\n  \nEvent Sponsor: McCann Fabrication; Austin Associates \nAdditional Sponsors: Mechanic Savings Bank; Hilton Garden Inn-Auburn Riverwatch \nSeason Underwriter: Maple Way Dental \nMedia Sponsors: Turner Publishing; Sun Journal; Uncle Andy’s Digest \n 
URL:https://francocenter.org/event/the-christie-ray-trio/
CATEGORIES:Music
ATTACH;FMTTYPE=image/jpeg:https://francocenter.org/wp-content/uploads/2021/08/IMG-0422.jpg
END:VEVENT
BEGIN:VEVENT
DTSTART;TZID=America/New_York:20210903T200000
DTEND;TZID=America/New_York:20210903T230000
DTSTAMP:20260421T034355
CREATED:20210824T184115Z
LAST-MODIFIED:20210824T184115Z
UID:10712-1630699200-1630710000@francocenter.org
SUMMARY:80’s Night at The Franco!
DESCRIPTION:80’s Night at The Franco!\nSeptember 3\, come out and dance the night away to some of your favorite hits from the 80’s.\n \nCLOCKWORK\, the premier up and coming local band brings their 80’s set to the Franco Center.\nBring your neon\, high tops\, and big hair.\n\nDoors open at 7:00pm\nMusic: 8:00pm-11:00pm\nTickets only $10.\nFree Parking.\nFull bar.\n  \nSponsored by: Mechanic Savings Bank; Hilton Garden Inn-Auburn Riverwatch \nSeason Underwriter: Maple Way Dental \nMedia Sponsors: Turner Publishing; Sun Journal; Uncle Andy’s Digest
URL:https://francocenter.org/event/80s-night-at-the-franco/
CATEGORIES:Music
ATTACH;FMTTYPE=image/jpeg:https://francocenter.org/wp-content/uploads/2021/08/80s-Night-image.jpg
END:VEVENT
BEGIN:VEVENT
DTSTART;TZID=America/New_York:20210827T193000
DTEND;TZID=America/New_York:20210827T213000
DTSTAMP:20260421T034355
CREATED:20210824T182049Z
LAST-MODIFIED:20210824T182049Z
UID:10707-1630092600-1630099800@francocenter.org
SUMMARY:Dave Rowe and Friends
DESCRIPTION:Join the legendary Dave Rowe on August 27 at 7:30pm. Along with Troy Bennett of the Squid Jiggers and special guest fiddler\, Edward Howe\n  \n \nDo not miss your last chance to see Dave Rowe before he casts off for a more “nomadic” lifestyle aboard his motor yacht\, “Stinkpot.” Dave will be heading out to sea in September to live abroad\, where he will spend winters in sunny Florida and summers cruising wherever the gigs take him. Dave is putting on one last event in his hometown to see and bid a fond farewell (at least for now) to his family\, friends\, and fans. You will not want to miss this opportunity!\nAdmission: $20\nDoors Open at 6:30pm\nFull Bar\nFree Parking\nGreat Music
URL:https://francocenter.org/event/dave-rowe-and-friends/
CATEGORIES:Music
ATTACH;FMTTYPE=image/jpeg:https://francocenter.org/wp-content/uploads/2021/07/Dave-Rowe-Image-date-friends2.jpg
END:VEVENT
END:VCALENDAR