BEGIN:VCALENDAR
VERSION:2.0
PRODID:-//Franco Center - ECPv6.15.20//NONSGML v1.0//EN
CALSCALE:GREGORIAN
METHOD:PUBLISH
X-ORIGINAL-URL:https://francocenter.org
X-WR-CALDESC:Events for Franco Center
REFRESH-INTERVAL;VALUE=DURATION:PT1H
X-Robots-Tag:noindex
X-PUBLISHED-TTL:PT1H
BEGIN:VTIMEZONE
TZID:America/New_York
BEGIN:DAYLIGHT
TZOFFSETFROM:-0500
TZOFFSETTO:-0400
TZNAME:EDT
DTSTART:20240310T070000
END:DAYLIGHT
BEGIN:STANDARD
TZOFFSETFROM:-0400
TZOFFSETTO:-0500
TZNAME:EST
DTSTART:20241103T060000
END:STANDARD
BEGIN:DAYLIGHT
TZOFFSETFROM:-0500
TZOFFSETTO:-0400
TZNAME:EDT
DTSTART:20250309T070000
END:DAYLIGHT
BEGIN:STANDARD
TZOFFSETFROM:-0400
TZOFFSETTO:-0500
TZNAME:EST
DTSTART:20251102T060000
END:STANDARD
BEGIN:DAYLIGHT
TZOFFSETFROM:-0500
TZOFFSETTO:-0400
TZNAME:EDT
DTSTART:20260308T070000
END:DAYLIGHT
BEGIN:STANDARD
TZOFFSETFROM:-0400
TZOFFSETTO:-0500
TZNAME:EST
DTSTART:20261101T060000
END:STANDARD
END:VTIMEZONE
BEGIN:VEVENT
DTSTART;TZID=America/New_York:20250503T180000
DTEND;TZID=America/New_York:20250503T210000
DTSTAMP:20260421T171905
CREATED:20241218T162210Z
LAST-MODIFIED:20250317T152508Z
UID:14127-1746295200-1746306000@francocenter.org
SUMMARY:Maine's Got Talent May 3\, 2025
DESCRIPTION:Save The Date!!\nMaine’s Got Talent is back again! — with Andwell Therapy & Early Learning Services at Franco Center.\nMay 3\, 2025- for a show you won’t want to miss!\n\n\n\nStarting with live music and free appetizers.\n\nFollowed by 8 live performances from incredibly talented local musicians!\n\nSupport the talent; Support the work we do with families in your communities!\n\n\nAll proceeds from Maine’s Got Talent support Andwell’s pediatric programs and services.Maine’s Got Talent 2025 at https://MGT2025.eventbrite.com\n#SaveTheDate #MainesGotTalent #ExcitingTimes #mainecommunitybank
URL:https://francocenter.org/event/maines-got-talent-may-3-2025/
LOCATION:ME
CATEGORIES:Renter
ATTACH;FMTTYPE=image/jpeg:https://francocenter.org/wp-content/uploads/2024/12/MainesGotTalentlogo.jpg
END:VEVENT
BEGIN:VEVENT
DTSTART;TZID=America/New_York:20250510T190000
DTEND;TZID=America/New_York:20250510T210000
DTSTAMP:20260421T171905
CREATED:20240724T175752Z
LAST-MODIFIED:20250508T144903Z
UID:13932-1746903600-1746910800@francocenter.org
SUMMARY:Maine Music Society Season Finale May 10 and 11
DESCRIPTION:Information from our renter on July 24\, 2024: \nA Showcase of Americana\nSaturday\, May 10\n7:00 pm \n\n\nSunday\, May 11\n2:00 pm \nYou will want to be present for this showcase of music from the Americana genre. \nTICKETS https://app.arts-people.com/index.php?show=245483
URL:https://francocenter.org/event/maine-music-society-season-finale-may-10-and-11/
LOCATION:ME
CATEGORIES:Music,Renter
ATTACH;FMTTYPE=image/jpeg:https://francocenter.org/wp-content/uploads/2019/01/MMS-logo.jpg
END:VEVENT
BEGIN:VEVENT
DTSTART;TZID=America/New_York:20250511T140000
DTEND;TZID=America/New_York:20250511T160000
DTSTAMP:20260421T171905
CREATED:20240724T175503Z
LAST-MODIFIED:20250508T144936Z
UID:13929-1746972000-1746979200@francocenter.org
SUMMARY:Maine Music Society Season Finale May 11
DESCRIPTION:Information from our renter on July 24\, 2024: \n\n\nA Showcase of Americana\nSunday\, May 11\n2:00 pm \nYou will want to be present for this showcase of music from the Americana genre. \nTICKETS https://app.arts-people.com/index.php?show=245483
URL:https://francocenter.org/event/maine-music-society-season-finale-may-11/
LOCATION:ME
CATEGORIES:Music,Renter
ATTACH;FMTTYPE=image/jpeg:https://francocenter.org/wp-content/uploads/2019/01/MMS-logo.jpg
END:VEVENT
BEGIN:VEVENT
DTSTART;TZID=America/New_York:20250517T190000
DTEND;TZID=America/New_York:20250517T210000
DTSTAMP:20260421T171905
CREATED:20240724T170857Z
LAST-MODIFIED:20240724T170857Z
UID:13914-1747508400-1747515600@francocenter.org
SUMMARY:Midcoast Symphony Orchestra May 17
DESCRIPTION:Information from our renter on July 24\, 2024: \nMidcoast Symphony Orchestra May 17 \nThe orchestra plays four regular concerts each season at the Franco Center in Lewiston. \nA community-based organization\, the orchestra draws players and audiences from south of Portland to Rockland along the coast\, and inland from Augusta to the Lewiston-Auburn area. Its members all volunteer their time to practice and perform with the Midcoast Symphony. \nThe group has expanded in size and capability under the leadership of Rohan Smith\, Conductor and Music Director since 2003-2004. As its reputation grows\, the orchestra attracts ever more professional-caliber musicians and award-winning guest artists. \nTicket Info:\n\nMSO tickets are paperless. Buy them in advance up to 24 hours before each concert\, either online or via the Box Office. Check-in (“will call”) is in the lobby before the concert.\nAll concerts are general admission (no reserved seats.) Concerts are about 2 hours in length\, including intermission.\nBuying tickets at the door? Doors open at 6:15 pm for Saturday performances\, and 1:15 for Sunday performances. Cash\, checks and credit cards accepted.\n\n\nBuy Tickets\nPurchase By Phone through the Box Office: \nPlease leave a message at (207) 481-0790 and we’ll call you back. \nPurchase Online: \nTickets for MSO’s 2024/25 concerts will be available shortly for the season which begins in October. \n 
URL:https://francocenter.org/event/midcoast-symphony-orchestra-may-17/
LOCATION:ME
CATEGORIES:Music,Renter
ATTACH;FMTTYPE=image/jpeg:https://francocenter.org/wp-content/uploads/2024/07/SeasonImage.jpg
END:VEVENT
END:VCALENDAR