BEGIN:VCALENDAR
VERSION:2.0
PRODID:-//Franco Center - ECPv6.15.20//NONSGML v1.0//EN
CALSCALE:GREGORIAN
METHOD:PUBLISH
X-WR-CALNAME:Franco Center
X-ORIGINAL-URL:https://francocenter.org
X-WR-CALDESC:Events for Franco Center
REFRESH-INTERVAL;VALUE=DURATION:PT1H
X-Robots-Tag:noindex
X-PUBLISHED-TTL:PT1H
BEGIN:VTIMEZONE
TZID:America/New_York
BEGIN:DAYLIGHT
TZOFFSETFROM:-0500
TZOFFSETTO:-0400
TZNAME:EDT
DTSTART:20240310T070000
END:DAYLIGHT
BEGIN:STANDARD
TZOFFSETFROM:-0400
TZOFFSETTO:-0500
TZNAME:EST
DTSTART:20241103T060000
END:STANDARD
BEGIN:DAYLIGHT
TZOFFSETFROM:-0500
TZOFFSETTO:-0400
TZNAME:EDT
DTSTART:20250309T070000
END:DAYLIGHT
BEGIN:STANDARD
TZOFFSETFROM:-0400
TZOFFSETTO:-0500
TZNAME:EST
DTSTART:20251102T060000
END:STANDARD
BEGIN:DAYLIGHT
TZOFFSETFROM:-0500
TZOFFSETTO:-0400
TZNAME:EDT
DTSTART:20260308T070000
END:DAYLIGHT
BEGIN:STANDARD
TZOFFSETFROM:-0400
TZOFFSETTO:-0500
TZNAME:EST
DTSTART:20261101T060000
END:STANDARD
END:VTIMEZONE
BEGIN:VEVENT
DTSTART;TZID=America/New_York:20250726T120000
DTEND;TZID=America/New_York:20250726T170000
DTSTAMP:20260421T140538
CREATED:20250512T152112Z
LAST-MODIFIED:20250626T165547Z
UID:14493-1753531200-1753549200@francocenter.org
SUMMARY:Summer Fest at the Franco Saturday July 26
DESCRIPTION:Announcing our first Summer Fest! Join us on Saturday\, July 26 between noon and 5pm for our first Summer Fest party. \n\n\n\n\n\n\nFête d'été in Little Canada!\n\n\n\n\n\n\nActivities include a bounce house\, dunk tank\, hot dogs and hamburgers\, in-house drink specials at the bar\, and more food. \nCornhole tournament with prizes and trophies for the winners! SIGN UP NOW until July 22. https://forms.gle/1JVZvgrWeh1ru1KNA \nFamilies are welcome to bring chairs or picnic blankets to set up outside and enjoy all the festivities. \nCornhole Tournament: $10 per player. Registration ends July 22 at 3pm. Register your team as soon as possible! Cash for 1st place and other great prizes for 2nd and 3rd places. \nAll activities to take place in Oxford Street parking lot. \nCall 207-514-7753 for more information.
URL:https://francocenter.org/event/summer-fest-at-the-franco-saturday-july-26/
LOCATION:Franco Center\, 46 Cedar Street\, Lewiston\, ME\, 04240\, United States
CATEGORIES:Fundraiser
ATTACH;FMTTYPE=image/jpeg:https://francocenter.org/wp-content/uploads/2025/05/SummerFestSMandTicket.jpg
END:VEVENT
BEGIN:VEVENT
DTSTART;TZID=America/New_York:20250730T180000
DTEND;TZID=America/New_York:20250730T190000
DTSTAMP:20260421T140538
CREATED:20250605T184732Z
LAST-MODIFIED:20250605T185000Z
UID:14534-1753898400-1753902000@francocenter.org
SUMMARY:Amy Stacey Curtis – Healing Through Music July 30 at the Franco
DESCRIPTION:The Franco Center proudly welcomes Maine’s own Amy Stacey Curtis for a moving and inspiring musical performance from 6 p.m. to 7 p.m. Wednesday\, July 30. Curtis\, the 2025 winner of Maine’s Got Talent\, will take the stage to share her story of resilience and recovery through music. \nAfter a debilitating brain injury caused by untreated Lyme disease in 2017\, Curtis faced a long road to recovery—progressing from a wheelchair to a walker\, then a cane\, and finally back on her feet. Though mobility returned\, her speech remained impaired. Searching for a way to rebuild her neural pathways\, she turned to music—specifically\, the ukulele. \nThrough weekly practice and the challenge of learning five new cover songs every week\, Curtis not only regained her ability to speak normally in calm settings but also discovered a powerful way to connect and inspire others. With over 500 songs now under her belt and one ukulele performance garnering more than 600\,000 views online\, she is a rising musical voice in Maine and beyond. \nIn addition to performing regularly at Fast Breaks’ Monday night open mic in Lewiston\, Curtis shares her music on Facebook\, Instagram\, YouTube\, and TikTok\, where her blend of vulnerability and artistry continues to move audiences. \nThis special performance at the Franco Center is more than a concert—it’s a celebration of strength\, creativity\, and the healing power of music. \nEvent Details:\n📍 Franco Center\, 46 Cedar St.\, Lewiston\, ME\n📅 6 p.m. to 7 p.m. Wednesday\, July 30\n🎟️ $10 donation at door \nJoin us for an evening that will uplift and inspire!
URL:https://francocenter.org/event/amy-stacey-curtis-healing-through-music-july-30-at-the-franco/
LOCATION:Franco Center\, 46 Cedar Street\, Lewiston\, ME\, 04240\, United States
CATEGORIES:Music
ATTACH;FMTTYPE=image/jpeg:https://francocenter.org/wp-content/uploads/2025/06/AmyStaceyCurtisUpClose.jpg
END:VEVENT
END:VCALENDAR