BEGIN:VCALENDAR
VERSION:2.0
PRODID:-//Franco Center - ECPv6.15.20//NONSGML v1.0//EN
CALSCALE:GREGORIAN
METHOD:PUBLISH
X-ORIGINAL-URL:https://francocenter.org
X-WR-CALDESC:Events for Franco Center
REFRESH-INTERVAL;VALUE=DURATION:PT1H
X-Robots-Tag:noindex
X-PUBLISHED-TTL:PT1H
BEGIN:VTIMEZONE
TZID:America/New_York
BEGIN:DAYLIGHT
TZOFFSETFROM:-0500
TZOFFSETTO:-0400
TZNAME:EDT
DTSTART:20240310T070000
END:DAYLIGHT
BEGIN:STANDARD
TZOFFSETFROM:-0400
TZOFFSETTO:-0500
TZNAME:EST
DTSTART:20241103T060000
END:STANDARD
BEGIN:DAYLIGHT
TZOFFSETFROM:-0500
TZOFFSETTO:-0400
TZNAME:EDT
DTSTART:20250309T070000
END:DAYLIGHT
BEGIN:STANDARD
TZOFFSETFROM:-0400
TZOFFSETTO:-0500
TZNAME:EST
DTSTART:20251102T060000
END:STANDARD
BEGIN:DAYLIGHT
TZOFFSETFROM:-0500
TZOFFSETTO:-0400
TZNAME:EDT
DTSTART:20260308T070000
END:DAYLIGHT
BEGIN:STANDARD
TZOFFSETFROM:-0400
TZOFFSETTO:-0500
TZNAME:EST
DTSTART:20261101T060000
END:STANDARD
END:VTIMEZONE
BEGIN:VEVENT
DTSTART;TZID=America/New_York:20250823T200000
DTEND;TZID=America/New_York:20250823T213000
DTSTAMP:20260421T123534
CREATED:20250529T173450Z
LAST-MODIFIED:20250715T173010Z
UID:14505-1755979200-1755984600@francocenter.org
SUMMARY:Dueling Pianos to return to Franco Center August 23
DESCRIPTION:🎹 DUELING PIANOS: Back by Popular Demand!Saturday\, August 23 | Franco Center \nGet ready for a high-energy\, request-filled night of music and fun! The wildly entertaining Dueling Pianos show is back at the Franco Center—and this time\, it’s even more interactive. \n🎶 In the Round SeatingThe pianists will perform on the floor in the center of Heritage Hall\, surrounded by audience seating. You’ll be up close and part of the action\, singing along\, making requests\, and laughing all night long! \n💥 Two pianos. Countless songs. Unlimited fun.From pop and rock to country and classics\, these two masterful musicians will play it all—based on your requests. Clap\, sing\, dance\, and drink the night away! \n🍸 Doors open at 7 p.m.Enjoy drink specials and Happy Hour until 8 p.m.Concessions and a full cash bar available all evening. \n🎟️ Tickets:$25 in advance | $30 at the doorReserve your seats now \nYou asked for it. We made it happen. Don’t miss this unforgettable night of live music and laughs! \n  \nTickets are $25 in advance; $30 at door day of show. Tickets https://app.arts-people.com/index.php?show=286302 \nShow is 1.5 hours long. Enjoy these images from the February 2025 event!
URL:https://francocenter.org/event/dueling-pianos-to-return-to-franco-center-august-23/
LOCATION:Franco Center\, 46 Cedar Street\, Lewiston\, ME\, 04240\, United States
CATEGORIES:Cabaret,Performance
ATTACH;FMTTYPE=image/jpeg:https://francocenter.org/wp-content/uploads/2024/08/DuelingPianosSMALL.jpg
END:VEVENT
END:VCALENDAR