BEGIN:VCALENDAR
VERSION:2.0
PRODID:-//Franco Center - ECPv6.15.20//NONSGML v1.0//EN
CALSCALE:GREGORIAN
METHOD:PUBLISH
X-ORIGINAL-URL:https://francocenter.org
X-WR-CALDESC:Events for Franco Center
REFRESH-INTERVAL;VALUE=DURATION:PT1H
X-Robots-Tag:noindex
X-PUBLISHED-TTL:PT1H
BEGIN:VTIMEZONE
TZID:America/New_York
BEGIN:DAYLIGHT
TZOFFSETFROM:-0500
TZOFFSETTO:-0400
TZNAME:EDT
DTSTART:20240310T070000
END:DAYLIGHT
BEGIN:STANDARD
TZOFFSETFROM:-0400
TZOFFSETTO:-0500
TZNAME:EST
DTSTART:20241103T060000
END:STANDARD
BEGIN:DAYLIGHT
TZOFFSETFROM:-0500
TZOFFSETTO:-0400
TZNAME:EDT
DTSTART:20250309T070000
END:DAYLIGHT
BEGIN:STANDARD
TZOFFSETFROM:-0400
TZOFFSETTO:-0500
TZNAME:EST
DTSTART:20251102T060000
END:STANDARD
BEGIN:DAYLIGHT
TZOFFSETFROM:-0500
TZOFFSETTO:-0400
TZNAME:EDT
DTSTART:20260308T070000
END:DAYLIGHT
BEGIN:STANDARD
TZOFFSETFROM:-0400
TZOFFSETTO:-0500
TZNAME:EST
DTSTART:20261101T060000
END:STANDARD
END:VTIMEZONE
BEGIN:VEVENT
DTSTART;VALUE=DATE:20251001
DTEND;VALUE=DATE:20251031
DTSTAMP:20260421T091656
CREATED:20250930T173717Z
LAST-MODIFIED:20251022T174336Z
UID:14722-1759276800-1761868799@francocenter.org
SUMMARY:Escape from Haunted Sanctuary to Creepy Crypt
DESCRIPTION:This October\, the Franco Center is transforming its historic sanctuary (church space) into a spine-chilling Halloween escape room experience: Escape from the Sanctuary to the Crypt! We invite you\, your friends\, co-workers\, and family to join us for a memorable\, immersive adventure perfect for groups of up to 10 participants.\n\nNOTE: You do not buy tickets for the Escape Room from the Franco Center box office. You RESERVE your time here Book Your Escape Room\n\nWhat to Expect:\n\n\nOne-hour escape room adventure: Navigate a dark\, eerie environment filled with spooky decorations\, unsettling sounds\, and live costumed actors. Flashlights will be provided.\n\n\nDates: Available nightly throughout October (reservations required at least one day in advance via https://bookeo.com/franco\n\n\nCost: $15 per person\n\n\nGroup Size: Up to 10 per session. Minimum of four. Once you book an hour-long session through Bookeo\, that time slot is not available to others. Your group will remain intact.\n\n\nSpecial Creepy Crypt Bar Nights:\nEnhance the experience with our brand-new Creepy Crypt Bar & Lounge\, open exclusively on:\n\n\nTuesday\, Oct. 28 & Thursday\, Oct. 30 from 7:00–11:00 p.m. for the Escape adventures (first group starts at 7pm\, last group starts at 10pm).\n\nThe Creepy Crypt Bar opens at 6:00 p.m. and closes at 11 p.m.\nNOTE: Tickets are not needed for the Bar & Lounge on these two nights.\n\nEnjoy drinks\, music\, and a chance to mingle in the Franco Center basement (former church crypt) before and/or after your escape room adventure. The bar and lounge will be open to the public on those two nights\, not just the escape adventurers.\n\n\nThis event is a unique opportunity to offer family\, friends\, employees\, clients\, or colleagues a fun experience with a Halloween twist—while supporting a local community landmark.\nReserve Your Group:\nSpots are limited\, so book early to guarantee your group’s preferred time slot: Book Your Escape Room
URL:https://francocenter.org/event/escape-from-haunted-sanctuary-to-creepy-crypt/
LOCATION:Franco Center\, 46 Cedar Street\, Lewiston\, ME\, 04240\, United States
CATEGORIES:Fundraiser
ATTACH;FMTTYPE=image/jpeg:https://francocenter.org/wp-content/uploads/2025/09/HalloweenEscapeRoom8.5x11.jpg
END:VEVENT
BEGIN:VEVENT
DTSTART;TZID=America/New_York:20251028T180000
DTEND;TZID=America/New_York:20251028T230000
DTSTAMP:20260421T091656
CREATED:20251002T130844Z
LAST-MODIFIED:20251022T161705Z
UID:14732-1761674400-1761692400@francocenter.org
SUMMARY:Creepy Crypt Bar and Lounge open Oct. 28 and 30
DESCRIPTION:Special Creepy Crypt Bar Nights:\n\nNOTE: Tickets are NOT needed for the Bar & Lounge.\n\nExperience our brand-new Creepy Crypt Bar & Lounge\, open exclusively on:\n\n\nTuesday\, Oct. 28 & Thursday\, Oct. 30 from 6:00–11:00 p.m.\n\nSpecialty drinks will be for sale all night!\n\nEnjoy drinks\, music\, and a chance to mingle in the Franco Center basement (former church crypt). The bar and lounge will be open to the public on those two nights\, not just the escape adventurers.\n\n\nThis event is a unique opportunity for a fun experience with a Halloween twist—while supporting a local community landmark.\nCome dressed in costume! Not a requirement\, but adds to the fun! This is a rare opportunity to visit the Franco Center’s cash bar and lounge without a cover charge.
URL:https://francocenter.org/event/creepy-crypt-bar-and-lounge-open-oct-28-and-30/
LOCATION:Franco Center\, 46 Cedar Street\, Lewiston\, ME\, 04240\, United States
CATEGORIES:Fundraiser
ATTACH;FMTTYPE=image/png:https://francocenter.org/wp-content/uploads/2025/10/CreepyCryptCostumePartyIMAGE.png
END:VEVENT
BEGIN:VEVENT
DTSTART;TZID=America/New_York:20251030T113000
DTEND;TZID=America/New_York:20251030T130000
DTSTAMP:20260421T091656
CREATED:20250909T184549Z
LAST-MODIFIED:20250911T134119Z
UID:14672-1761823800-1761829200@francocenter.org
SUMMARY:Halloween-themed La Rencontre to feature author Denis Ledoux
DESCRIPTION:Thursday\, Oct. 30 \nDoors open at 10:30am \nLunch starts at 11:30am \n$17 per person. Must RSVP by Oct. 23 \nhttps://app.arts-people.com/index.php?show=298063 \nJoin us for a festive Halloween-themed La Rencontre luncheon! Enjoy delicious food and spirited company\, followed by a special presentation from local author Denis Ledoux. He’ll share insights into his latest book\, offering a captivating glimpse into his storytelling craft. \nIn Here To Stay/Lives in 17th Century Canada\, Denis says the book is really about the more domestic effort of 10\,000 French people to establish a home for themselves in North America.\n\nCostumes encouraged for extra fun and flair at this Halloween-themed La Rencontre! \nPot roast and all the fixings\, and dessert. \nSponsor: TV5 Monde
URL:https://francocenter.org/event/halloween-themed-la-rencontre-to-feature-author-denis-ledoux/
LOCATION:Franco Center\, 46 Cedar Street\, Lewiston\, ME\, 04240\, United States
CATEGORIES:La Rencontre
ATTACH;FMTTYPE=image/jpeg:https://francocenter.org/wp-content/uploads/2025/09/LaRencontreGeneric1080.jpg
END:VEVENT
BEGIN:VEVENT
DTSTART;TZID=America/New_York:20251030T180000
DTEND;TZID=America/New_York:20251030T220000
DTSTAMP:20260421T091656
CREATED:20251002T131231Z
LAST-MODIFIED:20251029T191243Z
UID:14737-1761847200-1761861600@francocenter.org
SUMMARY:Creepy Crypt Bar and Lounge Oct. 30
DESCRIPTION:Special Creepy Crypt Bar Nights:\nExperience our brand-new Creepy Crypt Bar & Lounge\, open exclusively on:\n\n\nThursday\, Oct. 30 from 6:00–10:00 p.m.\n\nSpecialty drinks will be for sale all night!\n\nEnjoy drinks\, music\, and a chance to mingle in the Franco Center basement (former church crypt). The bar and lounge will be open to the public on those two nights\, not just the escape adventurers.\n\n\nThis event is a unique opportunity for a fun experience with a Halloween twist—while supporting a local community landmark.\nCome dressed in costume! Not a requirement\, but adds to the fun! This is a rare opportunity to visit the Franco Center’s cash bar and lounge without a cover charge.
URL:https://francocenter.org/event/creepy-crypt-bar-and-lounge-oct-30/
LOCATION:Franco Center\, 46 Cedar Street\, Lewiston\, ME\, 04240\, United States
CATEGORIES:Fundraiser
ATTACH;FMTTYPE=image/jpeg:https://francocenter.org/wp-content/uploads/2025/10/CreepyCryptBarWebImage.jpg
END:VEVENT
END:VCALENDAR